Package: UNDO Version: 1.48.0 Command: /home/biocbuild/R/R/bin/R CMD build --keep-empty-dirs --no-resave-data UNDO StartedAt: 2025-04-01 03:22:30 -0000 (Tue, 01 Apr 2025) EndedAt: 2025-04-01 03:22:41 -0000 (Tue, 01 Apr 2025) EllapsedTime: 11.0 seconds RetCode: 0 Status: OK PackageFile: UNDO_1.48.0.tar.gz PackageFileSize: 2.845 MiB