Package: UNDO Version: 1.48.0 Command: F:\biocbuild\bbs-3.20-bioc\R\bin\R.exe CMD check --no-multiarch --install=check:UNDO.install-out.txt --library=F:\biocbuild\bbs-3.20-bioc\R\library --no-vignettes --timings UNDO_1.48.0.tar.gz StartedAt: 2025-04-01 07:04:13 -0400 (Tue, 01 Apr 2025) EndedAt: 2025-04-01 07:04:58 -0400 (Tue, 01 Apr 2025) EllapsedTime: 45.8 seconds RetCode: 0 Status: OK CheckDir: UNDO.Rcheck Warnings: 0