Package: UNDO Version: 1.48.0 Command: rm -rf UNDO.buildbin-libdir && mkdir UNDO.buildbin-libdir && F:\biocbuild\bbs-3.20-bioc\R\bin\R.exe CMD INSTALL --build --library=UNDO.buildbin-libdir UNDO_1.48.0.tar.gz StartedAt: 2025-04-01 09:27:24 -0400 (Tue, 01 Apr 2025) EndedAt: 2025-04-01 09:27:44 -0400 (Tue, 01 Apr 2025) EllapsedTime: 19.5 seconds RetCode: 0 Status: OK PackageFile: UNDO_1.48.0.zip PackageFileSize: 2.818 MiB