Package: UNDO Version: 1.48.0 Command: /Library/Frameworks/R.framework/Resources/bin/R CMD check --install=check:UNDO.install-out.txt --library=/Library/Frameworks/R.framework/Resources/library --no-vignettes --timings UNDO_1.48.0.tar.gz StartedAt: 2025-04-01 10:42:25 -0400 (Tue, 01 Apr 2025) EndedAt: 2025-04-01 10:43:30 -0400 (Tue, 01 Apr 2025) EllapsedTime: 65.6 seconds RetCode: 0 Status: OK CheckDir: UNDO.Rcheck Warnings: 0