Package: UNDO Version: 1.48.0 Command: /Library/Frameworks/R.framework/Resources/bin/R CMD build --keep-empty-dirs --no-resave-data UNDO StartedAt: 2025-03-31 22:45:47 -0400 (Mon, 31 Mar 2025) EndedAt: 2025-03-31 22:46:11 -0400 (Mon, 31 Mar 2025) EllapsedTime: 24.3 seconds RetCode: 0 Status: OK PackageFile: UNDO_1.48.0.tar.gz PackageFileSize: 2.853 MiB