Package: UCell Version: 2.10.1 Command: /home/biocbuild/R/R/bin/R CMD build --keep-empty-dirs --no-resave-data UCell StartedAt: 2025-04-01 03:21:47 -0000 (Tue, 01 Apr 2025) EndedAt: 2025-04-01 03:27:57 -0000 (Tue, 01 Apr 2025) EllapsedTime: 370.4 seconds RetCode: 0 Status: OK PackageFile: UCell_2.10.1.tar.gz PackageFileSize: 1.56 MiB