Package: UCSC.utils Version: 1.2.0 Command: /home/biocbuild/bbs-3.20-bioc/R/bin/R CMD check --install=check:UCSC.utils.install-out.txt --library=/home/biocbuild/bbs-3.20-bioc/R/site-library --timings UCSC.utils_1.2.0.tar.gz StartedAt: 2025-04-01 03:11:02 -0400 (Tue, 01 Apr 2025) EndedAt: 2025-04-01 03:12:06 -0400 (Tue, 01 Apr 2025) EllapsedTime: 64.1 seconds RetCode: 0 Status: OK CheckDir: UCSC.utils.Rcheck Warnings: 0