Package: TurboNorm Version: 1.54.0 Command: /home/biocbuild/R/R/bin/R CMD INSTALL TurboNorm StartedAt: 2025-03-31 20:15:51 -0000 (Mon, 31 Mar 2025) EndedAt: 2025-03-31 20:16:15 -0000 (Mon, 31 Mar 2025) EllapsedTime: 23.2 seconds RetCode: 0 Status: OK