Package: Trendy Version: 1.28.0 Command: F:\biocbuild\bbs-3.20-bioc\R\bin\R.exe CMD INSTALL Trendy StartedAt: 2025-03-31 15:54:44 -0400 (Mon, 31 Mar 2025) EndedAt: 2025-03-31 15:55:15 -0400 (Mon, 31 Mar 2025) EllapsedTime: 31.0 seconds RetCode: 0 Status: OK