Package: Trendy Version: 1.28.0 Command: F:\biocbuild\bbs-3.20-bioc\R\bin\R.exe CMD check --no-multiarch --install=check:Trendy.install-out.txt --library=F:\biocbuild\bbs-3.20-bioc\R\library --no-vignettes --timings Trendy_1.28.0.tar.gz StartedAt: 2025-04-01 06:57:43 -0400 (Tue, 01 Apr 2025) EndedAt: 2025-04-01 07:01:08 -0400 (Tue, 01 Apr 2025) EllapsedTime: 205.4 seconds RetCode: 0 Status: OK CheckDir: Trendy.Rcheck Warnings: 0