Package: Trendy Version: 1.28.0 Command: /home/biocbuild/bbs-3.20-bioc/R/bin/R CMD check --install=check:Trendy.install-out.txt --library=/home/biocbuild/bbs-3.20-bioc/R/site-library --timings Trendy_1.28.0.tar.gz StartedAt: 2025-04-01 03:06:27 -0400 (Tue, 01 Apr 2025) EndedAt: 2025-04-01 03:09:47 -0400 (Tue, 01 Apr 2025) EllapsedTime: 200.3 seconds RetCode: 0 Status: OK CheckDir: Trendy.Rcheck Warnings: 0