Package: Trendy Version: 1.28.0 Command: /Library/Frameworks/R.framework/Resources/bin/R CMD build --keep-empty-dirs --no-resave-data Trendy StartedAt: 2025-04-01 09:32:06 -0400 (Tue, 01 Apr 2025) EndedAt: 2025-04-01 09:33:36 -0400 (Tue, 01 Apr 2025) EllapsedTime: 90.6 seconds RetCode: 0 Status: OK PackageFile: Trendy_1.28.0.tar.gz PackageFileSize: 1.084 MiB