Package: Trendy Version: 1.28.0 Command: rm -rf Trendy.buildbin-libdir && mkdir Trendy.buildbin-libdir && /Users/biocbuild/BBS/utils/build-universal.sh Trendy_1.28.0.tar.gz /Library/Frameworks/R.framework/Resources/bin/R Trendy.buildbin-libdir StartedAt: 2025-04-02 16:42:27 -0400 (Wed, 02 Apr 2025) EndedAt: 2025-04-02 16:42:57 -0400 (Wed, 02 Apr 2025) EllapsedTime: 30.7 seconds RetCode: 0 Status: OK PackageFile: Trendy_1.28.0.tgz PackageFileSize: 768.4 KiB