Package: TreeSummarizedExperiment Version: 2.14.0 Command: /Library/Frameworks/R.framework/Resources/bin/R CMD check --install=check:TreeSummarizedExperiment.install-out.txt --library=/Library/Frameworks/R.framework/Resources/library --no-vignettes --timings TreeSummarizedExperiment_2.14.0.tar.gz StartedAt: 2025-04-01 10:30:44 -0400 (Tue, 01 Apr 2025) EndedAt: 2025-04-01 10:42:43 -0400 (Tue, 01 Apr 2025) EllapsedTime: 719.5 seconds RetCode: 0 Status: OK CheckDir: TreeSummarizedExperiment.Rcheck Warnings: 0