Package: TreeSummarizedExperiment Version: 2.14.0 Command: rm -rf TreeSummarizedExperiment.buildbin-libdir && mkdir TreeSummarizedExperiment.buildbin-libdir && /Users/biocbuild/BBS/utils/build-universal.sh TreeSummarizedExperiment_2.14.0.tar.gz /Library/Frameworks/R.framework/Resources/bin/R TreeSummarizedExperiment.buildbin-libdir StartedAt: 2025-04-01 12:56:48 -0400 (Tue, 01 Apr 2025) EndedAt: 2025-04-01 12:57:59 -0400 (Tue, 01 Apr 2025) EllapsedTime: 71.3 seconds RetCode: 0 Status: OK PackageFile: TreeSummarizedExperiment_2.14.0.tgz PackageFileSize: 1.834 MiB