Package: TreeAndLeaf Version: 1.18.0 Command: /home/biocbuild/R/R/bin/R CMD INSTALL TreeAndLeaf StartedAt: 2025-03-31 20:38:31 -0000 (Mon, 31 Mar 2025) EndedAt: 2025-03-31 20:38:40 -0000 (Mon, 31 Mar 2025) EllapsedTime: 8.7 seconds RetCode: 0 Status: OK