Package: TreeAndLeaf Version: 1.18.0 Command: chmod a+r TreeAndLeaf -R && F:\biocbuild\bbs-3.20-bioc\R\bin\R.exe CMD build --keep-empty-dirs --no-resave-data TreeAndLeaf StartedAt: 2025-03-31 22:26:48 -0400 (Mon, 31 Mar 2025) EndedAt: 2025-03-31 22:27:10 -0400 (Mon, 31 Mar 2025) EllapsedTime: 22.4 seconds RetCode: 0 Status: OK PackageFile: TreeAndLeaf_1.18.0.tar.gz PackageFileSize: 5.594 MiB