Package: TreeAndLeaf Version: 1.18.0 Command: /Library/Frameworks/R.framework/Resources/bin/R CMD check --install=check:TreeAndLeaf.install-out.txt --library=/Library/Frameworks/R.framework/Resources/library --no-vignettes --timings TreeAndLeaf_1.18.0.tar.gz StartedAt: 2025-04-01 10:30:09 -0400 (Tue, 01 Apr 2025) EndedAt: 2025-04-01 10:31:27 -0400 (Tue, 01 Apr 2025) EllapsedTime: 78.4 seconds RetCode: 0 Status: OK CheckDir: TreeAndLeaf.Rcheck Warnings: 0