Package: TreeAndLeaf Version: 1.18.0 Command: /Library/Frameworks/R.framework/Resources/bin/R CMD build --keep-empty-dirs --no-resave-data TreeAndLeaf StartedAt: 2025-03-31 22:40:50 -0400 (Mon, 31 Mar 2025) EndedAt: 2025-03-31 22:41:16 -0400 (Mon, 31 Mar 2025) EllapsedTime: 25.3 seconds RetCode: 0 Status: OK PackageFile: TreeAndLeaf_1.18.0.tar.gz PackageFileSize: 5.623 MiB