Package: TreeAndLeaf Version: 1.18.0 Command: /Library/Frameworks/R.framework/Resources/bin/R CMD build --keep-empty-dirs --no-resave-data TreeAndLeaf StartedAt: 2025-04-01 09:29:49 -0400 (Tue, 01 Apr 2025) EndedAt: 2025-04-01 09:30:05 -0400 (Tue, 01 Apr 2025) EllapsedTime: 15.8 seconds RetCode: 0 Status: OK PackageFile: TreeAndLeaf_1.18.0.tar.gz PackageFileSize: 5.623 MiB