Package: TransView Version: 1.50.1 Command: /Library/Frameworks/R.framework/Resources/bin/R CMD build --keep-empty-dirs --no-resave-data TransView StartedAt: 2025-03-31 22:40:35 -0400 (Mon, 31 Mar 2025) EndedAt: 2025-03-31 22:41:39 -0400 (Mon, 31 Mar 2025) EllapsedTime: 64.3 seconds RetCode: 0 Status: OK PackageFile: TransView_1.50.1.tar.gz PackageFileSize: 1.821 MiB