Package: TransView Version: 1.50.1 Command: /Library/Frameworks/R.framework/Resources/bin/R CMD INSTALL TransView StartedAt: 2025-03-31 15:30:04 -0400 (Mon, 31 Mar 2025) EndedAt: 2025-03-31 15:30:23 -0400 (Mon, 31 Mar 2025) EllapsedTime: 19.0 seconds RetCode: 0 Status: OK