Package: TransView Version: 1.50.1 Command: /Library/Frameworks/R.framework/Resources/bin/R CMD check --install=check:TransView.install-out.txt --library=/Library/Frameworks/R.framework/Resources/library --no-vignettes --timings TransView_1.50.1.tar.gz StartedAt: 2025-04-02 11:51:19 -0400 (Wed, 02 Apr 2025) EndedAt: 2025-04-02 11:53:16 -0400 (Wed, 02 Apr 2025) EllapsedTime: 117.0 seconds RetCode: 0 Status: OK CheckDir: TransView.Rcheck Warnings: 0