Package: TransView Version: 1.50.1 Command: rm -rf TransView.buildbin-libdir && mkdir TransView.buildbin-libdir && /Users/biocbuild/BBS/utils/build-universal.sh TransView_1.50.1.tar.gz /Library/Frameworks/R.framework/Resources/bin/R TransView.buildbin-libdir StartedAt: 2025-04-02 16:41:42 -0400 (Wed, 02 Apr 2025) EndedAt: 2025-04-02 16:42:07 -0400 (Wed, 02 Apr 2025) EllapsedTime: 24.7 seconds RetCode: 0 Status: OK PackageFile: TransView_1.50.1.tgz PackageFileSize: 2.033 MiB