Package: TrajectoryGeometry Version: 1.14.0 Command: /Library/Frameworks/R.framework/Resources/bin/R CMD INSTALL TrajectoryGeometry StartedAt: 2025-03-31 15:50:49 -0400 (Mon, 31 Mar 2025) EndedAt: 2025-03-31 15:51:00 -0400 (Mon, 31 Mar 2025) EllapsedTime: 10.5 seconds RetCode: 0 Status: OK