Package: TrajectoryGeometry Version: 1.14.0 Command: /Library/Frameworks/R.framework/Resources/bin/R CMD check --install=check:TrajectoryGeometry.install-out.txt --library=/Library/Frameworks/R.framework/Resources/library --no-vignettes --timings TrajectoryGeometry_1.14.0.tar.gz StartedAt: 2025-04-01 10:25:59 -0400 (Tue, 01 Apr 2025) EndedAt: 2025-04-01 10:28:50 -0400 (Tue, 01 Apr 2025) EllapsedTime: 171.0 seconds RetCode: 0 Status: OK CheckDir: TrajectoryGeometry.Rcheck Warnings: 0