Package: ToxicoGx Version: 2.10.0 Command: /home/biocbuild/R/R/bin/R CMD build --keep-empty-dirs --no-resave-data ToxicoGx StartedAt: 2025-04-01 03:13:39 -0000 (Tue, 01 Apr 2025) EndedAt: 2025-04-01 03:14:42 -0000 (Tue, 01 Apr 2025) EllapsedTime: 63.0 seconds RetCode: 0 Status: OK PackageFile: ToxicoGx_2.10.0.tar.gz PackageFileSize: 3.907 MiB