Package: ToxicoGx Version: 2.10.0 Command: F:\biocbuild\bbs-3.20-bioc\R\bin\R.exe CMD INSTALL ToxicoGx StartedAt: 2025-03-31 16:41:48 -0400 (Mon, 31 Mar 2025) EndedAt: 2025-03-31 16:43:03 -0400 (Mon, 31 Mar 2025) EllapsedTime: 74.9 seconds RetCode: 0 Status: OK