Package: TnT Version: 1.28.0 Command: F:\biocbuild\bbs-3.20-bioc\R\bin\R.exe CMD INSTALL TnT StartedAt: 2025-03-31 15:42:32 -0400 (Mon, 31 Mar 2025) EndedAt: 2025-03-31 15:43:07 -0400 (Mon, 31 Mar 2025) EllapsedTime: 34.8 seconds RetCode: 0 Status: OK