Package: TnT Version: 1.28.0 Command: /Library/Frameworks/R.framework/Resources/bin/R CMD INSTALL TnT StartedAt: 2025-03-31 15:50:38 -0400 (Mon, 31 Mar 2025) EndedAt: 2025-03-31 15:51:12 -0400 (Mon, 31 Mar 2025) EllapsedTime: 34.1 seconds RetCode: 0 Status: OK