Package: TissueEnrich Version: 1.26.0 Command: F:\biocbuild\bbs-3.20-bioc\R\bin\R.exe CMD INSTALL TissueEnrich StartedAt: 2025-03-31 16:02:26 -0400 (Mon, 31 Mar 2025) EndedAt: 2025-03-31 16:03:12 -0400 (Mon, 31 Mar 2025) EllapsedTime: 45.8 seconds RetCode: 0 Status: OK