Package: TissueEnrich Version: 1.26.0 Command: /Library/Frameworks/R.framework/Resources/bin/R CMD INSTALL TissueEnrich StartedAt: 2025-03-31 15:46:52 -0400 (Mon, 31 Mar 2025) EndedAt: 2025-03-31 15:47:23 -0400 (Mon, 31 Mar 2025) EllapsedTime: 31.0 seconds RetCode: 0 Status: OK