Package: TargetSearch Version: 2.8.0 Command: /Library/Frameworks/R.framework/Resources/bin/R CMD INSTALL TargetSearch StartedAt: 2025-03-31 15:09:19 -0400 (Mon, 31 Mar 2025) EndedAt: 2025-03-31 15:09:48 -0400 (Mon, 31 Mar 2025) EllapsedTime: 28.9 seconds RetCode: 0 Status: OK