Package: TVTB Version: 1.32.0 Command: /Library/Frameworks/R.framework/Resources/bin/R CMD INSTALL TVTB StartedAt: 2025-03-31 16:42:14 -0400 (Mon, 31 Mar 2025) EndedAt: 2025-03-31 16:43:19 -0400 (Mon, 31 Mar 2025) EllapsedTime: 64.7 seconds RetCode: 0 Status: OK