Package: TSCAN Version: 1.44.0 Command: /Library/Frameworks/R.framework/Resources/bin/R CMD INSTALL TSCAN StartedAt: 2025-03-31 15:53:08 -0400 (Mon, 31 Mar 2025) EndedAt: 2025-03-31 15:54:04 -0400 (Mon, 31 Mar 2025) EllapsedTime: 55.7 seconds RetCode: 0 Status: OK