Package: TSAR Version: 1.4.0 Command: /Library/Frameworks/R.framework/Resources/bin/R CMD INSTALL TSAR StartedAt: 2025-03-31 16:37:17 -0400 (Mon, 31 Mar 2025) EndedAt: 2025-03-31 16:37:40 -0400 (Mon, 31 Mar 2025) EllapsedTime: 23.7 seconds RetCode: 0 Status: OK