Package: TSAR Version: 1.4.0 Command: rm -rf TSAR.buildbin-libdir && mkdir TSAR.buildbin-libdir && /Users/biocbuild/BBS/utils/build-universal.sh TSAR_1.4.0.tar.gz /Library/Frameworks/R.framework/Resources/bin/R TSAR.buildbin-libdir StartedAt: 2025-04-02 16:43:29 -0400 (Wed, 02 Apr 2025) EndedAt: 2025-04-02 16:43:44 -0400 (Wed, 02 Apr 2025) EllapsedTime: 14.8 seconds RetCode: 0 Status: OK PackageFile: TSAR_1.4.0.tgz PackageFileSize: 3.978 MiB