Package: TRONCO Version: 2.38.0 Command: /home/biocbuild/R/R/bin/R CMD check --install=check:TRONCO.install-out.txt --library=/home/biocbuild/R/R/site-library --no-vignettes --timings TRONCO_2.38.0.tar.gz StartedAt: 2025-04-01 11:35:29 -0000 (Tue, 01 Apr 2025) EndedAt: 2025-04-01 11:39:14 -0000 (Tue, 01 Apr 2025) EllapsedTime: 225.5 seconds RetCode: 0 Status: OK CheckDir: TRONCO.Rcheck Warnings: 0