Package: TRONCO Version: 2.38.0 Command: /home/biocbuild/bbs-3.20-bioc/R/bin/R CMD INSTALL TRONCO StartedAt: 2025-03-31 15:42:10 -0400 (Mon, 31 Mar 2025) EndedAt: 2025-03-31 15:42:21 -0400 (Mon, 31 Mar 2025) EllapsedTime: 11.5 seconds RetCode: 0 Status: OK