Package: TRONCO Version: 2.38.0 Command: /home/biocbuild/bbs-3.20-bioc/R/bin/R CMD build --keep-empty-dirs --no-resave-data --md5 TRONCO StartedAt: 2025-03-31 19:30:49 -0400 (Mon, 31 Mar 2025) EndedAt: 2025-03-31 19:31:47 -0400 (Mon, 31 Mar 2025) EllapsedTime: 58.1 seconds RetCode: 0 Status: OK PackageFile: TRONCO_2.38.0.tar.gz PackageFileSize: 4.249 MiB