Package: TRONCO Version: 2.38.0 Command: rm -rf TRONCO.buildbin-libdir && mkdir TRONCO.buildbin-libdir && /Users/biocbuild/BBS/utils/build-universal.sh TRONCO_2.38.0.tar.gz /Library/Frameworks/R.framework/Resources/bin/R TRONCO.buildbin-libdir StartedAt: 2025-04-02 16:43:27 -0400 (Wed, 02 Apr 2025) EndedAt: 2025-04-02 16:43:43 -0400 (Wed, 02 Apr 2025) EllapsedTime: 15.9 seconds RetCode: 0 Status: OK PackageFile: TRONCO_2.38.0.tgz PackageFileSize: 4.844 MiB