Package: TRESS Version: 1.12.0 Command: /home/biocbuild/R/R/bin/R CMD INSTALL TRESS StartedAt: 2025-03-31 20:31:00 -0000 (Mon, 31 Mar 2025) EndedAt: 2025-03-31 20:31:47 -0000 (Mon, 31 Mar 2025) EllapsedTime: 47.0 seconds RetCode: 0 Status: OK