Package: TRESS Version: 1.12.0 Command: rm -rf TRESS.buildbin-libdir && mkdir TRESS.buildbin-libdir && F:\biocbuild\bbs-3.20-bioc\R\bin\R.exe CMD INSTALL --build --library=TRESS.buildbin-libdir TRESS_1.12.0.tar.gz StartedAt: 2025-04-01 09:26:12 -0400 (Tue, 01 Apr 2025) EndedAt: 2025-04-01 09:27:03 -0400 (Tue, 01 Apr 2025) EllapsedTime: 52.0 seconds RetCode: 0 Status: OK PackageFile: TRESS_1.12.0.zip PackageFileSize: 687.4 KiB