Package: TRESS Version: 1.12.0 Command: /Library/Frameworks/R.framework/Resources/bin/R CMD build --keep-empty-dirs --no-resave-data TRESS StartedAt: 2025-03-31 22:41:35 -0400 (Mon, 31 Mar 2025) EndedAt: 2025-03-31 22:41:37 -0400 (Mon, 31 Mar 2025) EllapsedTime: 2.2 seconds RetCode: 0 Status: OK PackageFile: TRESS_1.12.0.tar.gz PackageFileSize: 483.9 KiB