Package: TREG Version: 1.10.0 Command: /home/biocbuild/R/R/bin/R CMD INSTALL TREG StartedAt: 2025-03-31 20:21:55 -0000 (Mon, 31 Mar 2025) EndedAt: 2025-03-31 20:22:20 -0000 (Mon, 31 Mar 2025) EllapsedTime: 25.4 seconds RetCode: 0 Status: OK