Package: TREG Version: 1.10.0 Command: /home/biocbuild/R/R/bin/R CMD build --keep-empty-dirs --no-resave-data TREG StartedAt: 2025-04-01 03:17:12 -0000 (Tue, 01 Apr 2025) EndedAt: 2025-04-01 03:28:14 -0000 (Tue, 01 Apr 2025) EllapsedTime: 661.7 seconds RetCode: 0 Status: OK PackageFile: TREG_1.10.0.tar.gz PackageFileSize: 1.683 MiB