Package: TREG Version: 1.10.0 Command: /Library/Frameworks/R.framework/Resources/bin/R CMD check --install=check:TREG.install-out.txt --library=/Library/Frameworks/R.framework/Resources/library --no-vignettes --timings TREG_1.10.0.tar.gz StartedAt: 2025-04-02 11:56:56 -0400 (Wed, 02 Apr 2025) EndedAt: 2025-04-02 11:59:55 -0400 (Wed, 02 Apr 2025) EllapsedTime: 178.6 seconds RetCode: 0 Status: OK CheckDir: TREG.Rcheck Warnings: 0