Package: TPP2D Version: 1.22.0 Command: /home/biocbuild/R/R/bin/R CMD INSTALL TPP2D StartedAt: 2025-03-31 21:06:42 -0000 (Mon, 31 Mar 2025) EndedAt: 2025-03-31 21:06:52 -0000 (Mon, 31 Mar 2025) EllapsedTime: 9.4 seconds RetCode: 0 Status: OK