Package: TPP2D Version: 1.22.0 Command: /home/biocbuild/R/R/bin/R CMD check --install=check:TPP2D.install-out.txt --library=/home/biocbuild/R/R/site-library --no-vignettes --timings TPP2D_1.22.0.tar.gz StartedAt: 2025-04-01 11:26:39 -0000 (Tue, 01 Apr 2025) EndedAt: 2025-04-01 11:28:48 -0000 (Tue, 01 Apr 2025) EllapsedTime: 129.2 seconds RetCode: 0 Status: OK CheckDir: TPP2D.Rcheck Warnings: 0