Package: TPP2D Version: 1.22.0 Command: F:\biocbuild\bbs-3.20-bioc\R\bin\R.exe CMD INSTALL TPP2D StartedAt: 2025-03-31 16:58:33 -0400 (Mon, 31 Mar 2025) EndedAt: 2025-03-31 16:58:53 -0400 (Mon, 31 Mar 2025) EllapsedTime: 20.2 seconds RetCode: 0 Status: OK